BEGIN:VCALENDAR
VERSION:2.0
PRODID:-//Roman Catholic Archdiocese of Palo Schools - ECPv5.16.4//NONSGML v1.0//EN
CALSCALE:GREGORIAN
METHOD:PUBLISH
X-ORIGINAL-URL:https://rcapschools.org
X-WR-CALDESC:Events for Roman Catholic Archdiocese of Palo Schools
REFRESH-INTERVAL;VALUE=DURATION:PT1H
X-Robots-Tag:noindex
X-PUBLISHED-TTL:PT1H
BEGIN:VTIMEZONE
TZID:Asia/Singapore
BEGIN:STANDARD
TZOFFSETFROM:+0800
TZOFFSETTO:+0800
TZNAME:+08
DTSTART:20200101T000000
END:STANDARD
END:VTIMEZONE
BEGIN:VEVENT
DTSTART;VALUE=DATE:20200725
DTEND;VALUE=DATE:20200726
DTSTAMP:20260425T221147
CREATED:20200717T064529Z
LAST-MODIFIED:20200717T064529Z
UID:3371-1595635200-1595721599@rcapschools.org
SUMMARY:Enrollment
DESCRIPTION:Enrollment
URL:https://rcapschools.org/event/enrollment/
CATEGORIES:RCAP Schools Event
END:VEVENT
END:VCALENDAR